BEGIN:VCALENDAR
VERSION:2.0
PRODID:-//Bumping Down Highways - ECPv4.9.13//NONSGML v1.0//EN
CALSCALE:GREGORIAN
METHOD:PUBLISH
X-WR-CALNAME:Bumping Down Highways
X-ORIGINAL-URL:https://bumpingdownhighways.com
X-WR-CALDESC:Events for Bumping Down Highways
BEGIN:VTIMEZONE
TZID:America/Halifax
BEGIN:DAYLIGHT
TZOFFSETFROM:-0400
TZOFFSETTO:-0300
TZNAME:ADT
DTSTART:20190310T060000
END:DAYLIGHT
BEGIN:STANDARD
TZOFFSETFROM:-0300
TZOFFSETTO:-0400
TZNAME:AST
DTSTART:20191103T050000
END:STANDARD
END:VTIMEZONE
BEGIN:VEVENT
DTSTART;TZID=America/Halifax:20190715T170000
DTEND;TZID=America/Halifax:20190715T190000
DTSTAMP:20260423T182214
CREATED:20190612T133905Z
LAST-MODIFIED:20190612T133905Z
UID:624-1563210000-1563217200@bumpingdownhighways.com
SUMMARY:Book Signing Barnes & Noble Charleston\, SC
DESCRIPTION:Get your copy of Bumping Down Highways and meet the author at this Barnes & Noble Author Event in Charleston\, South Carolina! \n
URL:https://bumpingdownhighways.com/event/book-signing-barnes-noble-charleston-sc/
LOCATION:Barnes & Noble Charleston\, SC 29407\, 1812 Sam Rittenberg Blvd.\, Charleston\, SC\, 29407\, United States
CATEGORIES:Book Signing,Book Tour
ATTACH;FMTTYPE=image/jpeg:https://bumpingdownhighways.com/wp-content/uploads/2019/06/barnes-and-noble-logo.jpg
END:VEVENT
END:VCALENDAR